BEGIN:VCALENDAR
PRODID:-//github.com/rianjs/ical.net//NONSGML ical.net 4.0//EN
VERSION:2.0
BEGIN:VTIMEZONE
TZID:America/Phoenix
X-LIC-LOCATION:America/Phoenix
END:VTIMEZONE
BEGIN:VEVENT
DESCRIPTION:Desert Code Camp - 2014.1
DTEND;TZID=America/Phoenix:20140405T180000
DTSTAMP:20260423T195536Z
DTSTART;TZID=America/Phoenix:20140405T080000
GEO:33.293070;-111.796620
LOCATION:Chandler - Gilbert Community College
ORGANIZER:
SEQUENCE:0
STATUS:TENTATIVE
SUMMARY:Desert Code Camp - 2014.1
UID:db350610-a91e-45c7-8473-ac63fdb5b7a9
END:VEVENT
END:VCALENDAR
